BEGIN:VCALENDAR
VERSION:2.0
PRODID:-//Tech Council Ventures - ECPv6.15.18//NONSGML v1.0//EN
CALSCALE:GREGORIAN
METHOD:PUBLISH
X-WR-CALNAME:Tech Council Ventures
X-ORIGINAL-URL:https://techcouncilventures.com
X-WR-CALDESC:Events for Tech Council Ventures
REFRESH-INTERVAL;VALUE=DURATION:PT1H
X-Robots-Tag:noindex
X-PUBLISHED-TTL:PT1H
BEGIN:VTIMEZONE
TZID:America/New_York
BEGIN:DAYLIGHT
TZOFFSETFROM:-0500
TZOFFSETTO:-0400
TZNAME:EDT
DTSTART:20240310T070000
END:DAYLIGHT
BEGIN:STANDARD
TZOFFSETFROM:-0400
TZOFFSETTO:-0500
TZNAME:EST
DTSTART:20241103T060000
END:STANDARD
BEGIN:DAYLIGHT
TZOFFSETFROM:-0500
TZOFFSETTO:-0400
TZNAME:EDT
DTSTART:20250309T070000
END:DAYLIGHT
BEGIN:STANDARD
TZOFFSETFROM:-0400
TZOFFSETTO:-0500
TZNAME:EST
DTSTART:20251102T060000
END:STANDARD
BEGIN:DAYLIGHT
TZOFFSETFROM:-0500
TZOFFSETTO:-0400
TZNAME:EDT
DTSTART:20260308T070000
END:DAYLIGHT
BEGIN:STANDARD
TZOFFSETFROM:-0400
TZOFFSETTO:-0500
TZNAME:EST
DTSTART:20261101T060000
END:STANDARD
END:VTIMEZONE
BEGIN:VEVENT
DTSTART;TZID=America/New_York:20250528T090000
DTEND;TZID=America/New_York:20250529T180000
DTSTAMP:20260422T183152
CREATED:20250507T150029Z
LAST-MODIFIED:20250507T150029Z
UID:13562-1748422800-1748541600@techcouncilventures.com
SUMMARY:WSJ Future of Everything
DESCRIPTION:The Future of Everything is The Wall Street Journal’s premier live event\, bringing together the biggest newsmakers across every vertical the Journal covers—from business\, tech and economics to sports\, streaming and style—to explore bold ideas and offer unique insights. The event will answer the most pressing questions of the present day: As human life expectancy increases\, how will we work\, spend and plan for an AI-enabled future?
URL:https://techcouncilventures.com/event/wsj-future-of-everything/
LOCATION:The Glasshouse\, 660 12th Ave\, New York\, NY\, 10019\, United States
CATEGORIES:Conference,Networking
END:VEVENT
BEGIN:VEVENT
DTSTART;TZID=America/New_York:20250523T093000
DTEND;TZID=America/New_York:20250523T160000
DTSTAMP:20260422T183152
CREATED:20250507T150627Z
LAST-MODIFIED:20250507T150627Z
UID:13566-1747992600-1748016000@techcouncilventures.com
SUMMARY:Princeton Innovation Conference
DESCRIPTION:Discover how the Office of Innovation is supporting founders and entrepreneurs\, engaging industry and investors\, and advancing technology translation. Join us for fireside chats\, panels\, networking\, and mingling on topics including AI\, deep tech\, strategic partnerships and industry engagement opportunities\, energy and the environment\, the humanities\, and the arts. The Princeton Innovation Conference at Reunions is open to our entire innovation ecosystem community\, including alumni. 
URL:https://techcouncilventures.com/event/princeton-innovation-conference/
LOCATION:The Friend Center\, 7799 William St\, Princeton\, NJ\, 08540\, United States
CATEGORIES:Networking
END:VEVENT
BEGIN:VEVENT
DTSTART;TZID=America/New_York:20250513T190000
DTEND;TZID=America/New_York:20250513T220000
DTSTAMP:20260422T183152
CREATED:20250204T201638Z
LAST-MODIFIED:20250204T201638Z
UID:13503-1747162800-1747173600@techcouncilventures.com
SUMMARY:Innovate100 Celebration
DESCRIPTION:Tuesday\, May 13\, 2025 | 7 – 10 pm | New Brunswick PAC \nThis second annual event will highlight the INNOVATE100\, honoring dynamic leaders from all industries statewide. Theatre presentation\, preceded and followed by networking receptions\, will showcase the honorees and be followed by a short music and dance performance.
URL:https://techcouncilventures.com/event/innovate100-celebration/
LOCATION:New Brunswick PAC\, 11 Livingston Ave\, New Brunswick\, 08901\, United States
CATEGORIES:Awards,Networking
END:VEVENT
BEGIN:VEVENT
DTSTART;TZID=America/New_York:20250513T080000
DTEND;TZID=America/New_York:20250513T180000
DTSTAMP:20260422T183152
CREATED:20240819T161418Z
LAST-MODIFIED:20250212T153302Z
UID:12640-1747123200-1747159200@techcouncilventures.com
SUMMARY:BioNJ BioPartnering Conference
DESCRIPTION:Join life sciences executives\, investors\, academic collaborators & BD/strategic professionals on May 13 at the Liberty Science Center for BioNJ’s BioPartnering Conference – the premier partnering event. \nFrom 1:1 partnering and pitch presentations to networking\, exhibits\, and plenary sessions\, it’s about growing the ecosystem and bolstering medical innovation. \nThe application process is now open to present your company to potential investors and partners! https://tinyurl.com/yjj8efes \nTech Council Ventures is a proud Supporting Partner! \nConnecting Innovators\, Investors\, and Industry \nMay 13\, 2025 – Liberty Science Center\, Jersey City\, NJ\nMay 12\, May 14-16\, 2025 – Virtual Partnering
URL:https://techcouncilventures.com/event/bionj-biopartnering-conference/
LOCATION:Liberty Science Center\, 222 Jersey City Blvd\, Jersey City\, 07305\, United States
CATEGORIES:Conference
ORGANIZER;CN="BioNJ":MAILTO:BioNJ@BioNJ.org
END:VEVENT
BEGIN:VEVENT
DTSTART;TZID=America/New_York:20250424T170000
DTEND;TZID=America/New_York:20250424T200000
DTSTAMP:20260422T183152
CREATED:20250401T162753Z
LAST-MODIFIED:20250401T162753Z
UID:13555-1745514000-1745524800@techcouncilventures.com
SUMMARY:Venture Idol 2025
DESCRIPTION:Venture Idol 2025\nThu\, Apr 24th 2025 at 5:00 PM EDT · By Ben Franklin Technology Partners of Northeastern Pennsylvania\n\nTech Council Ventures is proud to sponsor Venture Idol 2025!\n\nVenture Idol brings together 250+ business and community leaders\, entrepreneurs\, students\, and investors from Northeast PA for an evening of networking\, client pitches\, and awards. Ben Franklin Northeast portfolio companies compete for prize money – a judge’s choice award and the grand prize awarded through audience voting. Awards are given to honor achievements in manufacturing\, entrepreneurship\, and collaboration. The event serves as a platform to showcase and celebrate innovation\, offering inspiration and support to both emerging and established entrepreneurs.
URL:https://techcouncilventures.com/event/venture-idol-2025/
LOCATION:Ben Franklin TechVentures\, 116 Research Drive\, Bethlehem\, PA\, 18015\, United States
CATEGORIES:Awards,Competition,Networking
END:VEVENT
BEGIN:VEVENT
DTSTART;TZID=America/New_York:20250423T170000
DTEND;TZID=America/New_York:20250423T190000
DTSTAMP:20260422T183152
CREATED:20250401T141151Z
LAST-MODIFIED:20250401T141321Z
UID:13550-1745427600-1745434800@techcouncilventures.com
SUMMARY:Exploring Alternative Funding Options for New Jersey's Life Sciences Sector
DESCRIPTION:Join us at the New Jersey Bioscience Center for a panel discussion with life sciences innovators! Don’t miss this opportunity to connect and learn in New Jersey’s vibrant bioscience ecosystem. Discover valuable sources of alternative funding and learn about state financing options and incentives that can propel your life science company forward. \nApril 23\, 2025\, 5pm to 7pm \nNew Jersey Bioscience Center:  675 US-1\, North Brunswick Township\, NJ 08902 \nRegister today here. \nPanel moderated by: \nJohn Pennett \nLife Sciences and Technology Group\, Eisner Advisory Group LLC \nJohn Pennett is the Partner-in-Charge of the National Technology and Life Sciences Group. He has 35 years of public accounting experience\, with a strong emphasis on public and private life science and technology companies. John is a frequent writer and speaker on industry topics. He is the publisher of Catalyst\, a newsletter focused on delivering informative content on both business and technical issues affecting entrepreneurs in the technology and life sciences space. \n  \nPanelists: \n\nJim Gunton– Jim Gunton is the Managing Partner and Founder of Tech Council Ventures\, a venture capital firm dedicated to fueling the growth of innovative technology companies in the Mid-Atlantic region.\nJudith Sheft– Judith Sheft is the Executive Director of the New Jersey Commission of Science\, Innovation and Technology (CSIT).\nGail Feltham– Gail Feltham is the Director of Life Sciences Partnerships with the New Jersey Economic Development Authority (NJEDA).\nDr. Sid Angle– Dr. Siddhesh (Sid) Angle is the Co-Founder and Chief Executive Officer of Regenosine\, an early stage start-up developing a disease-modifying therapy for osteoarthritis.
URL:https://techcouncilventures.com/event/exploring-alternative-funding-options-for-new-jerseys-life-sciences-sector/
LOCATION:New Jersey Bioscience Center\, 675 US-1\, North Brunswick Township\, NJ\, 08902
CATEGORIES:Educational,Networking
ORGANIZER;CN="NJEDA":MAILTO:CustomerCare@njeda.com
END:VEVENT
BEGIN:VEVENT
DTSTART;TZID=America/New_York:20250422T090000
DTEND;TZID=America/New_York:20250422T160000
DTSTAMP:20260422T183152
CREATED:20250401T173848Z
LAST-MODIFIED:20250401T173848Z
UID:13557-1745312400-1745337600@techcouncilventures.com
SUMMARY:BioLabs Investor Day Philadelphia
DESCRIPTION:Join investors from across the country for a packed day of invite-only networking and curated five-minute pitches from the most exciting startups in Philly’s booming biotech ecosystem. \nFeaturing preselected Philly startups focused on advanced therapeutics\, diagnostics\, and more — raising rounds from pre-seed through Series B. \nLearn more at biolabsinvestorday.com/philadelphia-25 \n\n\n\n\n 
URL:https://techcouncilventures.com/event/biolabs-investor-day-philadelphia/
LOCATION:The Curtis
CATEGORIES:Conference
END:VEVENT
END:VCALENDAR