BEGIN:VCALENDAR
VERSION:2.0
PRODID:-//Tech Council Ventures - ECPv6.15.18//NONSGML v1.0//EN
CALSCALE:GREGORIAN
METHOD:PUBLISH
X-ORIGINAL-URL:https://techcouncilventures.com
X-WR-CALDESC:Events for Tech Council Ventures
REFRESH-INTERVAL;VALUE=DURATION:PT1H
X-Robots-Tag:noindex
X-PUBLISHED-TTL:PT1H
BEGIN:VTIMEZONE
TZID:America/New_York
BEGIN:DAYLIGHT
TZOFFSETFROM:-0500
TZOFFSETTO:-0400
TZNAME:EDT
DTSTART:20240310T070000
END:DAYLIGHT
BEGIN:STANDARD
TZOFFSETFROM:-0400
TZOFFSETTO:-0500
TZNAME:EST
DTSTART:20241103T060000
END:STANDARD
BEGIN:DAYLIGHT
TZOFFSETFROM:-0500
TZOFFSETTO:-0400
TZNAME:EDT
DTSTART:20250309T070000
END:DAYLIGHT
BEGIN:STANDARD
TZOFFSETFROM:-0400
TZOFFSETTO:-0500
TZNAME:EST
DTSTART:20251102T060000
END:STANDARD
BEGIN:DAYLIGHT
TZOFFSETFROM:-0500
TZOFFSETTO:-0400
TZNAME:EDT
DTSTART:20260308T070000
END:DAYLIGHT
BEGIN:STANDARD
TZOFFSETFROM:-0400
TZOFFSETTO:-0500
TZNAME:EST
DTSTART:20261101T060000
END:STANDARD
END:VTIMEZONE
BEGIN:VEVENT
DTSTART;TZID=America/New_York:20250806T143000
DTEND;TZID=America/New_York:20250806T160000
DTSTAMP:20260422T104842
CREATED:20250804T142636Z
LAST-MODIFIED:20250804T142636Z
UID:13635-1754490600-1754496000@techcouncilventures.com
SUMMARY:ILSE Ice Cream Social
DESCRIPTION:Time: 2:30 – 4:00 pm ET\n\n\nLocation: Outside the STEM parking lot\, ILSE – 1075 Morris Avenue\, Union\, NJ 07083\n\n\nA casual opportunity to meet the Entrepreneurs and Collaborators
URL:https://techcouncilventures.com/event/ilse-ice-cream-social/
LOCATION:ILSE\, 1075 Morris Avenue\, Union\, NJ\, 07083
CATEGORIES:Networking
END:VEVENT
BEGIN:VEVENT
DTSTART;TZID=America/New_York:20250808T130000
DTEND;TZID=America/New_York:20250808T150000
DTSTAMP:20260422T104842
CREATED:20250804T142934Z
LAST-MODIFIED:20250804T142934Z
UID:13639-1754658000-1754665200@techcouncilventures.com
SUMMARY:ILSE Mentor Matching
DESCRIPTION:Mentor Matching: Aug 8\, 1:00 – 3:00 pm ET\n\n\nLocation: ILSE – 6th Floor\, 1075 Morris Ave\, Union\, NJ 07083
URL:https://techcouncilventures.com/event/ilse-mentor-matching/
LOCATION:ILSE\, 1075 Morris Avenue\, Union\, NJ\, 07083
CATEGORIES:Networking
END:VEVENT
BEGIN:VEVENT
DTSTART;TZID=America/New_York:20250812T080000
DTEND;TZID=America/New_York:20250813T170000
DTSTAMP:20260422T104842
CREATED:20250730T204036Z
LAST-MODIFIED:20250730T204036Z
UID:13629-1754985600-1755104400@techcouncilventures.com
SUMMARY:2025 Chemical Ventures Conference
DESCRIPTION:The 2025 Chemical Ventures Conference will focus on the future of sustainability in the chemical industry. This year’s event will focus on circularity\, sustainability and resiliency of materials and chemicals across their entire life cycle—an essential conversation for innovators and investors. \nSteve Socolof is a featured speaker at the event on Aug 13’s Panel Discussion: Seeking Early Seed Funding from Angel Groups and Early Stage Funds
URL:https://techcouncilventures.com/event/2025-chemical-ventures-conference/
LOCATION:New York University\, Tandon School of Engineering\, Brooklyn\, NY
CATEGORIES:Competition,Conference
END:VEVENT
END:VCALENDAR